BEGIN:VCALENDAR
VERSION:2.0
CALSCALE:GREGORIAN
PRODID:-//Diputació de Barcelona//DibaCMS//EN
BEGIN:VEVENT
UID:8583
DTSTAMP:20260421T120459
DTSTART:20190914T180000
DTEND:20190914T180000
SUMMARY:BALLADA DE SARDANES DE L'11 DE SETEMBRE
LOCATION:Plaça de la Vila 
METHOD:PUBLISH
X-WR-CALNAME:sesrovires@diba.cat
X-WR-TIMEZONE:Europe/Madrid
DESCRIPTION:Amb la Cobla Mediterrània

URI:https://www.sesrovires.cat/actualitat/agenda-cultural/ballada-de-sardanes-de-l11-de-setembre.html
CLASS:PUBLIC
END:VEVENT
END:VCALENDAR
