BEGIN:VCALENDAR
VERSION:2.0
CALSCALE:GREGORIAN
PRODID:-//Diputació de Barcelona//DibaCMS//EN
BEGIN:VEVENT
UID:8584
DTSTAMP:20260421T225010
DTSTART:20190914T100000
DTEND:20190914T100000
SUMMARY:HOMENATGE A DAVID BERENGUER
LOCATION:Carrer Sant Joan, s/n 08635 Sant Esteve Sesrovires
METHOD:PUBLISH
X-WR-CALNAME:sesrovires@diba.cat
X-WR-TIMEZONE:Europe/Madrid
DESCRIPTION:Pintada d'un graffiti, dinar de germanor i música

URI:https://www.sesrovires.cat/actualitat/agenda-cultural/homenatge-a-david-berenguer.html
CLASS:PUBLIC
END:VEVENT
END:VCALENDAR
