BEGIN:VCALENDAR
VERSION:2.0
CALSCALE:GREGORIAN
PRODID:-//Diputació de Barcelona//DibaCMS//EN
BEGIN:VEVENT
UID:8585
DTSTAMP:20260421T163526
DTSTART:20190914T220000
DTEND:20190914T220000
SUMMARY:BALL DE NIT
LOCATION:Carrer Josep Maria de Segarra, 36 08635 Sant Esteve Sesrovires
METHOD:PUBLISH
X-WR-CALNAME:sesrovires@diba.cat
X-WR-TIMEZONE:Europe/Madrid
DESCRIPTION:Amb Josep Maria

URI:https://www.sesrovires.cat/actualitat/agenda-cultural/8585-ball-de-nit.html
CLASS:PUBLIC
END:VEVENT
END:VCALENDAR
