BEGIN:VCALENDAR
VERSION:2.0
CALSCALE:GREGORIAN
PRODID:-//Diputació de Barcelona//DibaCMS//EN
BEGIN:VEVENT
UID:8588
DTSTAMP:20260421T225208
DTSTART:20190929T130000
DTEND:20190929T130000
SUMMARY:FESTA DEL SOCI
LOCATION:Avinguda de Sant Esteve s/n 08635 Sant Esteve Sesrovires
METHOD:PUBLISH
X-WR-CALNAME:sesrovires@diba.cat
X-WR-TIMEZONE:Europe/Madrid
DESCRIPTION:Botifarrada popular

URI:https://www.sesrovires.cat/actualitat/agenda-completa/8588-festa-del-soci.html
CLASS:PUBLIC
END:VEVENT
END:VCALENDAR
