BEGIN:VCALENDAR
VERSION:2.0
CALSCALE:GREGORIAN
PRODID:-//Diputació de Barcelona//DibaCMS//EN
BEGIN:VEVENT
UID:8591
DTSTAMP:20260421T203703
DTSTART:20190906T203000
DTEND:20190906T203000
SUMMARY:FESTA JOVE
LOCATION:Piscina d'Estiu 
METHOD:PUBLISH
X-WR-CALNAME:sesrovires@diba.cat
X-WR-TIMEZONE:Europe/Madrid
DESCRIPTION:A la Piscina d'estiu, ambientació amb música

Bar / Snacks / Entrepans

Per a joves de 15 a 22 anys enpadronats / des. Pots convidar a un/a amic/ga que no sigui del municipi

Només entrades anticipades al Comnplex Esportiu del 2 al 6 de setembre de 2019 fins les 20 hores

Preu 2 €. Aforament Limitat

De 20.30 fins 2/4 d'1 de la matinada

 

URI:https://www.sesrovires.cat/actualitat/agenda-cultural/festa-jove.html
CLASS:PUBLIC
END:VEVENT
END:VCALENDAR
