BEGIN:VCALENDAR
VERSION:2.0
CALSCALE:GREGORIAN
PRODID:-//Diputació de Barcelona//DibaCMS//EN
BEGIN:VEVENT
UID:8597
DTSTAMP:20260422T003429
DTSTART:20190922T180000
DTEND:20190922T180000
SUMMARY:BALL PER A TOTHOM
LOCATION:
METHOD:PUBLISH
X-WR-CALNAME:sesrovires@diba.cat
X-WR-TIMEZONE:Europe/Madrid
DESCRIPTION:Amb Ignasi Pons. Entrada 3 €

URI:https://www.sesrovires.cat/actualitat/agenda-cultural/8597-ball-per-a-tothom.html
CLASS:PUBLIC
END:VEVENT
END:VCALENDAR
