BEGIN:VCALENDAR
VERSION:2.0
CALSCALE:GREGORIAN
PRODID:-//Diputació de Barcelona//DibaCMS//EN
BEGIN:VEVENT
UID:8598
DTSTAMP:20260421T134431
DTSTART:20190925T093000
DTEND:20190925T093000
SUMMARY:21a MARXA DE LA GENT GRAN
LOCATION:Av. Catalunya, 3 08635 Sant Esteve Sesrovires
METHOD:PUBLISH
X-WR-CALNAME:sesrovires@diba.cat
X-WR-TIMEZONE:Europe/Madrid
DESCRIPTION:Del Casal de la Gent Gran a la Residència de Can Serra. Amb la col·laboració de Ni Un Pas Enrera

URI:https://www.sesrovires.cat/actualitat/agenda-cultural/21a-marxa-de-la-gent-gran.html
CLASS:PUBLIC
END:VEVENT
END:VCALENDAR
