BEGIN:VCALENDAR
VERSION:2.0
CALSCALE:GREGORIAN
PRODID:-//Diputació de Barcelona//DibaCMS//EN
BEGIN:VEVENT
UID:8600
DTSTAMP:20260421T145440
DTSTART:20190902T090000
DTEND:20190906T130000
SUMMARY:CAMPUS DE PATINATGE
LOCATION:Passeig de Les Oliveres, s/n 08635 Sant Esteve Sesrovires
METHOD:PUBLISH
X-WR-CALNAME:sesrovires@diba.cat
X-WR-TIMEZONE:Europe/Madrid
DESCRIPTION:


​Campus de patinatge


	Del 2 al 6 de setembre
	De 9.00 a 13.00 hores
	De dilluns a divendres


 

Per a més informació sobre els preus i per fer les inscripcions cal posar-se en contacte amb els clubs organitzadors dels campus.





 



URI:https://www.sesrovires.cat/actualitat/agenda-cultural/8600-campus-de-patinatge.html
CLASS:PUBLIC
END:VEVENT
END:VCALENDAR
