BEGIN:VCALENDAR
VERSION:2.0
CALSCALE:GREGORIAN
PRODID:-//Diputació de Barcelona//DibaCMS//EN
BEGIN:VEVENT
UID:8606
DTSTAMP:20260421T120742
DTSTART:20190921T090000
DTEND:20190921T220000
SUMMARY:PRESENTACIÓ CLUB D'HANDBOL
LOCATION:Carrer Marta Mata s/n 08635 Sant Esteve Sesrovires
METHOD:PUBLISH
X-WR-CALNAME:sesrovires@diba.cat
X-WR-TIMEZONE:Europe/Madrid
DESCRIPTION:Presentació dels diferents equips del Club d'Handbol

URI:https://www.sesrovires.cat/actualitat/agenda-cultural/presentacio-club-dhandbol.html
CLASS:PUBLIC
END:VEVENT
END:VCALENDAR
