BEGIN:VCALENDAR
VERSION:2.0
CALSCALE:GREGORIAN
PRODID:-//Diputació de Barcelona//DibaCMS//EN
BEGIN:VEVENT
UID:8610
DTSTAMP:20260422T162652
DTSTART:20190830T220000
DTEND:20190830T220000
SUMMARY:FESTES DE LA BEGUDA 2019: SOPAR 
LOCATION:La Beguda 
METHOD:PUBLISH
X-WR-CALNAME:sesrovires@diba.cat
X-WR-TIMEZONE:Europe/Madrid
DESCRIPTION:Sopar Popular de pa amb tomàquet i pernil

URI:https://www.sesrovires.cat/actualitat/agenda-cultural/festes-de-la-beguda-2019-sopar-.html
CLASS:PUBLIC
END:VEVENT
END:VCALENDAR
