BEGIN:VCALENDAR
VERSION:2.0
CALSCALE:GREGORIAN
PRODID:-//Diputació de Barcelona//DibaCMS//EN
BEGIN:VEVENT
UID:8611
DTSTAMP:20260422T143340
DTSTART:20190830T233000
DTEND:20190830T233000
SUMMARY:FESTES DE LA BEGUDA 2019: ESPECTACLE
LOCATION:La Beguda 
METHOD:PUBLISH
X-WR-CALNAME:sesrovires@diba.cat
X-WR-TIMEZONE:Europe/Madrid
DESCRIPTION:Espectacle màgic-musical-humorístic: Tot per un barret

en acabar Disco-mòbil per a tothom

URI:https://www.sesrovires.cat/actualitat/agenda-cultural/festes-de-la-beguda-2019-espectacle.html
CLASS:PUBLIC
END:VEVENT
END:VCALENDAR
