BEGIN:VCALENDAR
VERSION:2.0
CALSCALE:GREGORIAN
PRODID:-//Diputació de Barcelona//DibaCMS//EN
BEGIN:VEVENT
UID:8612
DTSTAMP:20260422T143416
DTSTART:20190831T110000
DTEND:20190831T110000
SUMMARY:FESTES DE LA BEGUDA 2019: PARC INFANTIL-JUVENIL
LOCATION:La Beguda 
METHOD:PUBLISH
X-WR-CALNAME:sesrovires@diba.cat
X-WR-TIMEZONE:Europe/Madrid
DESCRIPTION:
URI:https://www.sesrovires.cat/actualitat/agenda-cultural/festes-de-la-beguda-2019-parc-infantil-juvenil.html
CLASS:PUBLIC
END:VEVENT
END:VCALENDAR
