BEGIN:VCALENDAR
VERSION:2.0
CALSCALE:GREGORIAN
PRODID:-//Diputació de Barcelona//DibaCMS//EN
BEGIN:VEVENT
UID:8613
DTSTAMP:20260422T143427
DTSTART:20190831T173000
DTEND:20190831T173000
SUMMARY:FESTES DE LA BEGUDA 2019: GIMCANA
LOCATION:La Beguda 
METHOD:PUBLISH
X-WR-CALNAME:sesrovires@diba.cat
X-WR-TIMEZONE:Europe/Madrid
DESCRIPTION:Gimcana Follet Junior

URI:https://www.sesrovires.cat/actualitat/agenda-cultural/festes-de-la-beguda-2019-gimcana.html
CLASS:PUBLIC
END:VEVENT
END:VCALENDAR
