BEGIN:VCALENDAR
VERSION:2.0
CALSCALE:GREGORIAN
PRODID:-//Diputació de Barcelona//DibaCMS//EN
BEGIN:VEVENT
UID:8614
DTSTAMP:20260422T171928
DTSTART:20190831T180000
DTEND:20190831T180000
SUMMARY:FESTES DE LA BEGUDA 2019: SARDANES
LOCATION:La Beguda 
METHOD:PUBLISH
X-WR-CALNAME:sesrovires@diba.cat
X-WR-TIMEZONE:Europe/Madrid
DESCRIPTION:Sardanes amb la Cobla La Principal de l'Escala

URI:https://www.sesrovires.cat/actualitat/agenda-cultural/festes-de-la-beguda-2019-sardanes.html
CLASS:PUBLIC
END:VEVENT
END:VCALENDAR
