BEGIN:VCALENDAR
VERSION:2.0
CALSCALE:GREGORIAN
PRODID:-//Diputació de Barcelona//DibaCMS//EN
BEGIN:VEVENT
UID:8615
DTSTAMP:20260422T143452
DTSTART:20190831T230000
DTEND:20190831T230000
SUMMARY:FESTES DE LA BEGUDA 2019: GIMCANA
LOCATION:La Beguda 
METHOD:PUBLISH
X-WR-CALNAME:sesrovires@diba.cat
X-WR-TIMEZONE:Europe/Madrid
DESCRIPTION:Gimcana El Follet

URI:https://www.sesrovires.cat/actualitat/agenda-cultural/8615-festes-de-la-beguda-2019-gimcana.html
CLASS:PUBLIC
END:VEVENT
END:VCALENDAR
