BEGIN:VCALENDAR
VERSION:2.0
CALSCALE:GREGORIAN
PRODID:-//Diputació de Barcelona//DibaCMS//EN
BEGIN:VEVENT
UID:8616
DTSTAMP:20260421T161319
DTSTART:20190831T233000
DTEND:20190831T233000
SUMMARY:FESTES DE LA BEGUDA 2019: BALL DE NIT
LOCATION:La Beguda 
METHOD:PUBLISH
X-WR-CALNAME:sesrovires@diba.cat
X-WR-TIMEZONE:Europe/Madrid
DESCRIPTION:Ball amb l'Orquesta Orgue de Gats

URI:https://www.sesrovires.cat/actualitat/agenda-cultural/festes-de-la-beguda-2019-ball-de-nit.html
CLASS:PUBLIC
END:VEVENT
END:VCALENDAR
