BEGIN:VCALENDAR
VERSION:2.0
CALSCALE:GREGORIAN
PRODID:-//Diputació de Barcelona//DibaCMS//EN
BEGIN:VEVENT
UID:8617
DTSTAMP:20260422T054229
DTSTART:20190901T113000
DTEND:20190901T113000
SUMMARY:FESTES DE LA BEGUDA 2019: 31a TROBADA DE GEGANTS
LOCATION:La Beguda 
METHOD:PUBLISH
X-WR-CALNAME:sesrovires@diba.cat
X-WR-TIMEZONE:Europe/Madrid
DESCRIPTION:
URI:https://www.sesrovires.cat/actualitat/agenda-cultural/festes-de-la-beguda-2019-31a-trobada-de-gegants.html
CLASS:PUBLIC
END:VEVENT
END:VCALENDAR
