BEGIN:VCALENDAR
VERSION:2.0
CALSCALE:GREGORIAN
PRODID:-//Diputació de Barcelona//DibaCMS//EN
BEGIN:VEVENT
UID:8618
DTSTAMP:20260422T040437
DTSTART:20190901T200000
DTEND:20190901T200000
SUMMARY:FESTES DE LA BEGUDA 2019: CONCERT
LOCATION:La Beguda 
METHOD:PUBLISH
X-WR-CALNAME:sesrovires@diba.cat
X-WR-TIMEZONE:Europe/Madrid
DESCRIPTION:Actuació musical amb Obmut

URI:https://www.sesrovires.cat/actualitat/agenda-cultural/festes-de-la-beguda-2019-concert.html
CLASS:PUBLIC
END:VEVENT
END:VCALENDAR
