BEGIN:VCALENDAR
VERSION:2.0
CALSCALE:GREGORIAN
PRODID:-//Diputació de Barcelona//DibaCMS//EN
BEGIN:VEVENT
UID:8619
DTSTAMP:20260421T152613
DTSTART:20190901T213000
DTEND:20190901T213000
SUMMARY:FESTES DE LA BEGUDA 2019: CASTELL DE FOCS
LOCATION:La Beguda 
METHOD:PUBLISH
X-WR-CALNAME:sesrovires@diba.cat
X-WR-TIMEZONE:Europe/Madrid
DESCRIPTION:
URI:https://www.sesrovires.cat/actualitat/agenda-cultural/festes-de-la-beguda-2019-castell-de-focs.html
CLASS:PUBLIC
END:VEVENT
END:VCALENDAR
