BEGIN:VCALENDAR
VERSION:2.0
CALSCALE:GREGORIAN
PRODID:-//Diputació de Barcelona//DibaCMS//EN
BEGIN:VEVENT
UID:8634
DTSTAMP:20260421T120251
DTSTART:20190902T073000
DTEND:20190906T173000
SUMMARY:ÀGORA SEPTEMBER CAMP
LOCATION:
METHOD:PUBLISH
X-WR-CALNAME:sesrovires@diba.cat
X-WR-TIMEZONE:Europe/Madrid
DESCRIPTION:Del 2 al 6 de setembre de 2019. De dilluns a divendres

El SEPTEMBER CAMP té com objectiu facilitar als alumnes unes activitats on puguin gaudir de la posta a punt d’aquests dies previs a l inici del nou curs escolar

Inscripcions al Club Esportiu Àgora, AGORA INTERNATIONAL SCHOOL BARCELONA Puig de Mira, 15-21, 08635 - Sant Esteve Sesrovires

Per quasevol més consulta o informació podeu contactar 670228729 (Julià)

 

URI:https://www.sesrovires.cat/actualitat/agenda-cultural/agora-september-camp.html
CLASS:PUBLIC
END:VEVENT
END:VCALENDAR
