BEGIN:VCALENDAR
VERSION:2.0
CALSCALE:GREGORIAN
PRODID:-//Diputació de Barcelona//DibaCMS//EN
BEGIN:VEVENT
UID:8636
DTSTAMP:20260422T181536
DTSTART:20190830T142400
DTEND:20200829T000000
SUMMARY:Reforçat el tractament contra la presència de rates
LOCATION:
METHOD:PUBLISH
X-WR-CALNAME:sesrovires@diba.cat
X-WR-TIMEZONE:Europe/Madrid
DESCRIPTION:Tot i que no se n’ha detectat un increment, l’Ajuntament ha decidit reforçar el tractament contra la presència de rates arran de la tempesta que va caure el passat dimarts. Amb les fortes pluges i l’augment del cabal d’aigua al clavegueram, els  rosegadors acostumen a sortir a la superfície per no morir ofegats.

URI:https://www.sesrovires.cat/actualitat/noticies/reforcat-el-tractament-contra-la-presencia-de-rates.html
CLASS:PUBLIC
END:VEVENT
END:VCALENDAR
