BEGIN:VCALENDAR
VERSION:2.0
CALSCALE:GREGORIAN
PRODID:-//Diputació de Barcelona//DibaCMS//EN
BEGIN:VEVENT
UID:8637
DTSTAMP:20260421T145641
DTSTART:20190925T190000
DTEND:20190925T190000
SUMMARY:BIBLIOLAB
LOCATION:Avinguda Montserrat, 10 08635 Sant Esteve Sesrovires
METHOD:PUBLISH
X-WR-CALNAME:sesrovires@diba.cat
X-WR-TIMEZONE:Europe/Madrid
DESCRIPTION:Introducció a la neurociència a partir d'històries reals. Activitat per adults

URI:https://www.sesrovires.cat/actualitat/agenda-cultural/8637-bibliolab.html
CLASS:PUBLIC
END:VEVENT
END:VCALENDAR
