BEGIN:VCALENDAR
VERSION:2.0
CALSCALE:GREGORIAN
PRODID:-//Diputació de Barcelona//DibaCMS//EN
BEGIN:VEVENT
UID:8640
DTSTAMP:20260421T213156
DTSTART:20190905T142200
DTEND:20200903T000000
SUMMARY:L’acte de benvinguda al curs escolar reflexiona sobre els patis de les escoles com elements educatius
LOCATION:
METHOD:PUBLISH
X-WR-CALNAME:sesrovires@diba.cat
X-WR-TIMEZONE:Europe/Madrid
DESCRIPTION:La regidoria d’Educació convida cada any a la comunitat educativa del municipi a una recepció a l’Ajuntament amb motiu de l’inici de curs escolar. Enguany, l’acte ha comptat amb una conferència que ha posat en valor els espais exteriors de les escoles com a eines educatives. En aquesta  línia, Sant Esteve Sesrovires també està impulsant iniciatives similars en tres centres educatius de la localitat.

URI:https://www.sesrovires.cat/actualitat/noticies/lacte-de-benvinguda-al-curs-escolar-reflexiona-sobre-els-patis-de-les-escoles-com-elements-educatius.html
CLASS:PUBLIC
END:VEVENT
END:VCALENDAR
