BEGIN:VCALENDAR
VERSION:2.0
CALSCALE:GREGORIAN
PRODID:-//Diputació de Barcelona//DibaCMS//EN
BEGIN:VEVENT
UID:8641
DTSTAMP:20260421T190231
DTSTART:20190904T000000
DTEND:20200903T000000
SUMMARY:Sant Esteve Sesrovires es manté com un dels municipis amb menys atur del Baix Llobregat
LOCATION:
METHOD:PUBLISH
X-WR-CALNAME:sesrovires@diba.cat
X-WR-TIMEZONE:Europe/Madrid
DESCRIPTION:Durant el passat mes d’agost, la taxa d’atur registral de Sant Esteve Sesrovires s’ha situat en el 7,6%,  segons dades de l’Observatori Comarcal del Baix Llobregat. D’aquesta forma, Sant Esteve, amb 285 desocupats,  continua sent un dels municipis amb una de les taxes d’atur més baixes de la comarca.

URI:https://www.sesrovires.cat/actualitat/noticies/sant-esteve-sesrovires-es-mante-com-un-dels-municipis-amb-menys-atur-del-baix-llobregat.html
CLASS:PUBLIC
END:VEVENT
END:VCALENDAR
