BEGIN:VCALENDAR
VERSION:2.0
CALSCALE:GREGORIAN
PRODID:-//Diputació de Barcelona//DibaCMS//EN
BEGIN:VEVENT
UID:8642
DTSTAMP:20260421T215344
DTSTART:20190905T143500
DTEND:20200904T000000
SUMMARY:Endesa reclama als ajuntaments l’abonament del 50% del deute energètic de les famílies vulnerables
LOCATION:
METHOD:PUBLISH
X-WR-CALNAME:sesrovires@diba.cat
X-WR-TIMEZONE:Europe/Madrid
DESCRIPTION:Endesa ha enviat una carta a 250 ajuntaments de Catalunya on els reclama l’abonament del 50% del deute generat per les famílies en condició de vulnerabilitat i assegura que tallarà els subministraments a les llars afectades. Sant Esteve Sesrovires és un dels ajuntaments que ha rebut el missatge de la companyia elèctrica. L’alcalde Enric Carbonell va assistir ahir a la trobada convocada per Diputació de Barcelona per abordar, conjuntament amb els municipis afectats, les pretensions d’Endesa

URI:https://www.sesrovires.cat/actualitat/noticies/endesa-reclama-als-ajuntaments-labonament-del-50-del-deute-energetic-de-les-families-vulnerables.html
CLASS:PUBLIC
END:VEVENT
END:VCALENDAR
