BEGIN:VCALENDAR
VERSION:2.0
CALSCALE:GREGORIAN
PRODID:-//Diputació de Barcelona//DibaCMS//EN
BEGIN:VEVENT
UID:8643
DTSTAMP:20260421T200814
DTSTART:20190906T000000
DTEND:20200905T000000
SUMMARY:Cursos subvencionats per a treballadors en actiu
LOCATION:
METHOD:PUBLISH
X-WR-CALNAME:sesrovires@diba.cat
X-WR-TIMEZONE:Europe/Madrid
DESCRIPTION:El Centre Tècnic Jaume Balmes ofereix diversos cursos subvencionats adreçats a treballadors en actiu. L’oferta inclou formació especialitzada en l’àmbit de les xarxes socials, de les habilitats directives i d’operació de carretons. Alguns d’aquests cursos comencen el proper 19 de setembre i encara queden places lliures. 

URI:https://www.sesrovires.cat/actualitat/noticies/cursos-subvencionats-per-a-treballadors-en-actiu.html
CLASS:PUBLIC
END:VEVENT
END:VCALENDAR
