BEGIN:VCALENDAR
VERSION:2.0
CALSCALE:GREGORIAN
PRODID:-//Diputació de Barcelona//DibaCMS//EN
BEGIN:VEVENT
UID:8644
DTSTAMP:20260421T184448
DTSTART:20190909T000000
DTEND:20200908T000000
SUMMARY:Inscripcions obertes a les escoles esportives
LOCATION:
METHOD:PUBLISH
X-WR-CALNAME:sesrovires@diba.cat
X-WR-TIMEZONE:Europe/Madrid
DESCRIPTION:Les escoles esportives ofereixen enguany la possibilitat de triar entre una desena diferent de modalitats esportives. Les inscripcions estan obertes i s’han de cursar en el Complex Esportiu Municipal o directament en el club organitzador de l’activitat.

URI:https://www.sesrovires.cat/actualitat/noticies/inscripcions-obertes-a-les-escoles-esportives.html
CLASS:PUBLIC
END:VEVENT
END:VCALENDAR
