BEGIN:VCALENDAR
VERSION:2.0
CALSCALE:GREGORIAN
PRODID:-//Diputació de Barcelona//DibaCMS//EN
BEGIN:VEVENT
UID:8645
DTSTAMP:20260421T232508
DTSTART:20190909T104500
DTEND:20200908T000000
SUMMARY:Talls puntuals per obres d’asfaltatge al Polígon Sesrovires
LOCATION:
METHOD:PUBLISH
X-WR-CALNAME:sesrovires@diba.cat
X-WR-TIMEZONE:Europe/Madrid
DESCRIPTION:Els dies 12, 13 i 16 de setembre es produiran talls puntuals en diversos carrers del Polígon Industrial Sesrovires. Durant aquests dies hi ha previst posar una base d’aglomerat asfàltic als  carrers Joan Oró, Gregorio Marañon, Narcís Monturiol, Severo Ochoa, Ricardo de la Cierva Oest i Marconi.  L’afectació de cada carrer és la següent:

URI:https://www.sesrovires.cat/actualitat/noticies/talls-puntuals-per-obres-dasfaltatge-al-poligon-sesrovires.html
CLASS:PUBLIC
END:VEVENT
END:VCALENDAR
