BEGIN:VCALENDAR
VERSION:2.0
CALSCALE:GREGORIAN
PRODID:-//Diputació de Barcelona//DibaCMS//EN
BEGIN:VEVENT
UID:8646
DTSTAMP:20260421T215230
DTSTART:20190910T000000
DTEND:20200909T000000
SUMMARY:Ricardo Lazarte pedaleja 630 km durant 24 hores
LOCATION:
METHOD:PUBLISH
X-WR-CALNAME:sesrovires@diba.cat
X-WR-TIMEZONE:Europe/Madrid
DESCRIPTION:Ricardo Lazarte és un esportista sesrovirenc especialitzat en esports de resistència. A uns mesos de complir 60 anys,  acaba d’aconseguir un nou gran repte esportiu: participar el passat cap de setmana en el GF 24h al Circuit de fórmula 1 de Barcelona. La prova consistia en un cursa ciclista de 24 hores. Lazarte no només l’ha finalitzat, sinó que ha fet més 630km.

URI:https://www.sesrovires.cat/actualitat/noticies/ricardo-lazarte-pedaleja-630-km-durant-24-hores.html
CLASS:PUBLIC
END:VEVENT
END:VCALENDAR
