BEGIN:VCALENDAR
VERSION:2.0
CALSCALE:GREGORIAN
PRODID:-//Diputació de Barcelona//DibaCMS//EN
BEGIN:VEVENT
UID:8647
DTSTAMP:20260421T200925
DTSTART:20190910T091000
DTEND:20200909T000000
SUMMARY:Aprovat el projecte d’execució de l’ampliació de la Biblioteca Municipal
LOCATION:
METHOD:PUBLISH
X-WR-CALNAME:sesrovires@diba.cat
X-WR-TIMEZONE:Europe/Madrid
DESCRIPTION:La Junta de Govern Local acaba d’aprovar el projecte d’execució de reforma i ampliació de la Biblioteca Municipal Joan Pomar i Solà.  La intervenció implica l’annexió a la biblioteca del local del costat.  A més de l’adequació de l’espai annex també s’executaran obres per millorar les instal·lacions i el funcionament de l’equipament.

URI:https://www.sesrovires.cat/actualitat/noticies/aprovat-el-projecte-dexecucio-de-lampliacio-de-la-biblioteca-municipal.html
CLASS:PUBLIC
END:VEVENT
END:VCALENDAR
