BEGIN:VCALENDAR
VERSION:2.0
CALSCALE:GREGORIAN
PRODID:-//Diputació de Barcelona//DibaCMS//EN
BEGIN:VEVENT
UID:8648
DTSTAMP:20260421T184310
DTSTART:20190910T103000
DTEND:20200909T000000
SUMMARY:Es continua buscant l’home desaparegut de 82 anys
LOCATION:
METHOD:PUBLISH
X-WR-CALNAME:sesrovires@diba.cat
X-WR-TIMEZONE:Europe/Madrid
DESCRIPTION:Un ampli dispositiu continua avui buscant Liberto, un veí de Masquefa de 82 anys que va desaparèixer diumenge a Sant Esteve Sesrovires. En el  dispositiu participen efectius de la Policia Local, Mossos d’Esquadra, Bombers, Proteccio Civil de Masquefa i Sant Esteve Sesrovires, així com voluntaris. Qualsevol persona que pugui facilitar alguna informació sobre la desaparició pot posar-se en contacte amb la Policia Local (93 771 40 11).

URI:https://www.sesrovires.cat/actualitat/noticies/es-continua-buscant-lhome-desaparegut-de-82-anys.html
CLASS:PUBLIC
END:VEVENT
END:VCALENDAR
