BEGIN:VCALENDAR
VERSION:2.0
CALSCALE:GREGORIAN
PRODID:-//Diputació de Barcelona//DibaCMS//EN
BEGIN:VEVENT
UID:8649
DTSTAMP:20260421T191216
DTSTART:20190910T114000
DTEND:20200909T000000
SUMMARY:Els voluntaris s’afegeixen  a l’operatiu de recerca de l’home desaparegut
LOCATION:
METHOD:PUBLISH
X-WR-CALNAME:sesrovires@diba.cat
X-WR-TIMEZONE:Europe/Madrid
DESCRIPTION:Avui els alcaldes de Masquefa i Sant Esteve Sesrovires, Xavier Boquete i Enric Carbonell, acompanyats de regidores dels dos ajuntaments,  s’han reunit per coordinar l’operatiu de recerca de Liberto, l’home de 82 anys veí de Masquefa que va desaparèixer diumenge a Sant Esteve Sesrovires. Les persones que vulguin participar en el dispositiu de recerca s’han d’adreçar a la Policia Local de Sant Esteve Sesrovires, lloc des d’on es coordinen tots els efectius que participen per trobar la persona desapareguda.

URI:https://www.sesrovires.cat/actualitat/noticies/els-voluntaris-safegeixen-a-loperatiu-de-recerca-de-lhome-desaparegut.html
CLASS:PUBLIC
END:VEVENT
END:VCALENDAR
