BEGIN:VCALENDAR
VERSION:2.0
CALSCALE:GREGORIAN
PRODID:-//Diputació de Barcelona//DibaCMS//EN
BEGIN:VEVENT
UID:8650
DTSTAMP:20260421T154127
DTSTART:20190912T000000
DTEND:20200911T000000
SUMMARY:Mossos d’Esquadra d’Igualada assumeix l’operació de recerca de l’home desaparegut
LOCATION:
METHOD:PUBLISH
X-WR-CALNAME:sesrovires@diba.cat
X-WR-TIMEZONE:Europe/Madrid
DESCRIPTION:Les forces de seguretat continuen buscant Liberto, l’home de 82 anys que va desaparèixer diumenge a Sant Esteve Sesrovires.  Donat que l’home desaparegut és veí de Masquefa, la recerca passa a ser assumida per la comissària de Mossos d’Esquadra d’Igualada, àrea policial a la que pertany aquesta població de l’Anoia.  Fins ara, tots els esforços per localitzar Liberto s’han mostrat infructuosos.

URI:https://www.sesrovires.cat/actualitat/noticies/mossos-desquadra-digualada-assumeix-loperacio-de-recerca-de-lhome-desaparegut.html
CLASS:PUBLIC
END:VEVENT
END:VCALENDAR
