BEGIN:VCALENDAR
VERSION:2.0
CALSCALE:GREGORIAN
PRODID:-//Diputació de Barcelona//DibaCMS//EN
BEGIN:VEVENT
UID:8651
DTSTAMP:20260421T133710
DTSTART:20190920T201500
DTEND:20190920T201500
SUMMARY:LA NIT VIOLETA
LOCATION:Plaça Xic Mateu 08635 Sant Esteve Sesrovires
METHOD:PUBLISH
X-WR-CALNAME:sesrovires@diba.cat
X-WR-TIMEZONE:Europe/Madrid
DESCRIPTION:Marxa lenta des de la Plaça Xic Mateu cap a l'Ajuntament on es llegrià el manifest i es guardarà un minut de silenci.

URI:https://www.sesrovires.cat/actualitat/agenda-cultural/la-nit-violeta.html
CLASS:PUBLIC
END:VEVENT
END:VCALENDAR
