BEGIN:VCALENDAR
VERSION:2.0
CALSCALE:GREGORIAN
PRODID:-//Diputació de Barcelona//DibaCMS//EN
BEGIN:VEVENT
UID:8652
DTSTAMP:20260421T131904
DTSTART:20190913T000000
DTEND:20200912T000000
SUMMARY:El nou curs escolar comença amb 1.176 alumnes als centres educatius públics
LOCATION:
METHOD:PUBLISH
X-WR-CALNAME:sesrovires@diba.cat
X-WR-TIMEZONE:Europe/Madrid
DESCRIPTION:Un total de  1.176 alumnes d’educació infantil, primària i secundaria ja han començat el curs escolar 2019-2020 als centres educatius de titularitat pública del municipi. La Llar d’Infants La Ginesta va obrir les seves portes el passat 5 de setembre, mentre que el 12 de setembre ho van fer les escoles La Roureda i Vinya del Sastret, així com l’Institut Montserrat Colomer.

URI:https://www.sesrovires.cat/actualitat/noticies/el-nou-curs-escolar-comenca-amb-1176-alumnes-als-centres-educatius-publics.html
CLASS:PUBLIC
END:VEVENT
END:VCALENDAR
