BEGIN:VCALENDAR
VERSION:2.0
CALSCALE:GREGORIAN
PRODID:-//Diputació de Barcelona//DibaCMS//EN
BEGIN:VEVENT
UID:8653
DTSTAMP:20260421T183533
DTSTART:20190914T000000
DTEND:20200913T000000
SUMMARY:L’Ajuntament es coordinarà amb altres municipis davant les repetides avaries d’Endesa
LOCATION:
METHOD:PUBLISH
X-WR-CALNAME:sesrovires@diba.cat
X-WR-TIMEZONE:Europe/Madrid
DESCRIPTION:Avui la xarxa elèctrica de la companyia Endesa ha tornat a patir una avaria, la qual ha deixat sense llum diferents carrers del centre urbà.  Aquest cop la causa ha estat un problema amb un cable subterrani de mitjà tensió. Davant les repetides incidències que pateix el municipi, l’Ajuntament de Sant Esteve Sesrovires ha decidit coordinar-se amb altres municipis, que també pateixen aquest mal servei, per donar una resposta col·lectiva.

URI:https://www.sesrovires.cat/actualitat/noticies/lajuntament-es-coordinara-amb-altres-municipis-davant-les-repetides-avaries-dendesa.html
CLASS:PUBLIC
END:VEVENT
END:VCALENDAR
