BEGIN:VCALENDAR
VERSION:2.0
CALSCALE:GREGORIAN
PRODID:-//Diputació de Barcelona//DibaCMS//EN
BEGIN:VEVENT
UID:8654
DTSTAMP:20260422T003329
DTSTART:20190916T000000
DTEND:20200915T000000
SUMMARY:Les puntaires de Catalunya es troben a Sant Esteve per fer puntes de coixí
LOCATION:
METHOD:PUBLISH
X-WR-CALNAME:sesrovires@diba.cat
X-WR-TIMEZONE:Europe/Madrid
DESCRIPTION:Més de 250 aficionades a les puntes de coixí d’arreu de Catalunya assistiran dissabte a la 26a Trobada de Puntaires de Sant Esteve Sesrovires.  És un acte organitzat pel Col·lectiu de Puntaires de Sant Esteve, entitat que porta més de 25 anys promovent aquest forma de teixir amb boixets.  La trobada es desenvoluparà el 21 de setembre, de 10.00 a 13.30 hores, a la Pista Coberta Francesc Castellet. L’Ajuntament col·labora un any més amb la trobada.

URI:https://www.sesrovires.cat/actualitat/noticies/les-puntaires-de-catalunya-es-troben-a-sant-esteve-per-fer-puntes-de-coixi.html
CLASS:PUBLIC
END:VEVENT
END:VCALENDAR
