BEGIN:VCALENDAR
VERSION:2.0
CALSCALE:GREGORIAN
PRODID:-//Diputació de Barcelona//DibaCMS//EN
BEGIN:VEVENT
UID:8655
DTSTAMP:20260421T192712
DTSTART:20190917T140000
DTEND:20200916T000000
SUMMARY:Marxa nocturna contra la violència masclista
LOCATION:
METHOD:PUBLISH
X-WR-CALNAME:sesrovires@diba.cat
X-WR-TIMEZONE:Europe/Madrid
DESCRIPTION:L’Ajuntament de Sant Esteve se suma a la Nit Violeta, una marxa que vol conscienciar sobre la violència masclista i que només al juliol ha deixat la dramàtica xifra de tretze dones i una menor assassinades. La concentració tindrà lloc divendres 20 de setembre, a les 20.15h, a la plaça Xic Mateu des d’on s’iniciarà la marxa de llum violeta fins a l’Ajuntament on es llegirà un manifest.

URI:https://www.sesrovires.cat/actualitat/noticies/marxa-nocturna-contra-la-violencia-masclista.html
CLASS:PUBLIC
END:VEVENT
END:VCALENDAR
