BEGIN:VCALENDAR
VERSION:2.0
CALSCALE:GREGORIAN
PRODID:-//Diputació de Barcelona//DibaCMS//EN
BEGIN:VEVENT
UID:8656
DTSTAMP:20260421T230603
DTSTART:20190919T000000
DTEND:20200918T000000
SUMMARY:Trobada multiesportiva oberta a nens i adults
LOCATION:
METHOD:PUBLISH
X-WR-CALNAME:sesrovires@diba.cat
X-WR-TIMEZONE:Europe/Madrid
DESCRIPTION:El proper 29 de setembre la platja de Castelldefels acollirà la 1a Trobada multiesportiva no-competitiva.  És una iniciativa del Consell Esportiu del Baix Llobregat, oberta tant a nens com a adults, per promoure l’esport entre persones de  totes les edats. Es podrà gaudir del beach tennis, volei-platja, ultimate platja (freesbe), beisbol platja, bitlles catalanes i ball.  Les inscripcions s’han de fer a la web del Consell Esportiu abans del 24 de setembre.

URI:https://www.sesrovires.cat/actualitat/noticies/trobada-multiesportiva-oberta-a-nens-i-adults.html
CLASS:PUBLIC
END:VEVENT
END:VCALENDAR
