BEGIN:VCALENDAR
VERSION:2.0
CALSCALE:GREGORIAN
PRODID:-//Diputació de Barcelona//DibaCMS//EN
BEGIN:VEVENT
UID:8660
DTSTAMP:20260421T202116
DTSTART:20190920T000000
DTEND:20200919T000000
SUMMARY:Curs del GIRES per aprendre a orientar-se en la muntanya
LOCATION:
METHOD:PUBLISH
X-WR-CALNAME:sesrovires@diba.cat
X-WR-TIMEZONE:Europe/Madrid
DESCRIPTION:L’entitat excursionista GIRES organitza un curs d’orientació del 24 d’octubre al 10 de novembre. L’objectiu és proporcionar l’alumne d’una formació tècnica que li permeti llegir un mapa, interpretar el terreny i fer servir la brúixola i el GPS. Les inscripcions es poden fer fins al 23 d’octubre.

URI:https://www.sesrovires.cat/actualitat/noticies/curs-del-gires-per-aprendre-a-orientar-se-en-la-muntanya.html
CLASS:PUBLIC
END:VEVENT
END:VCALENDAR
