BEGIN:VCALENDAR
VERSION:2.0
CALSCALE:GREGORIAN
PRODID:-//Diputació de Barcelona//DibaCMS//EN
BEGIN:VEVENT
UID:8661
DTSTAMP:20260421T215311
DTSTART:20190921T090000
DTEND:20190921T100000
SUMMARY:HANDBOL- infantil masculí - Sant Esteve vs Sant Quirze
LOCATION:Carrer Marta Mata s/n 08635 Sant Esteve Sesrovires
METHOD:PUBLISH
X-WR-CALNAME:sesrovires@diba.cat
X-WR-TIMEZONE:Europe/Madrid
DESCRIPTION:
URI:https://www.sesrovires.cat/actualitat/agenda-cultural/handbol-infantil-masculi-sant-esteve-vs-sant-quirze.html
CLASS:PUBLIC
END:VEVENT
END:VCALENDAR
