BEGIN:VCALENDAR
VERSION:2.0
CALSCALE:GREGORIAN
PRODID:-//Diputació de Barcelona//DibaCMS//EN
BEGIN:VEVENT
UID:8662
DTSTAMP:20260421T210754
DTSTART:20190920T144500
DTEND:20200919T000000
SUMMARY:Fotògrafs de Champniers visiten Sant Esteve
LOCATION:
METHOD:PUBLISH
X-WR-CALNAME:sesrovires@diba.cat
X-WR-TIMEZONE:Europe/Madrid
DESCRIPTION:Una delegació d’aficionats a la fotografia provinents de la localitat agermanada de Champniers (França) es troba a Sant Esteve. La visita s’emmarca dins d’un projecte d’intercanvi artístic amb el grup local ARTVIU.

URI:https://www.sesrovires.cat/temes/participacio/portal-de-participacio/fotografs-de-champniers-visiten-sant-esteve.html
CLASS:PUBLIC
END:VEVENT
END:VCALENDAR
