BEGIN:VCALENDAR
VERSION:2.0
CALSCALE:GREGORIAN
PRODID:-//Diputació de Barcelona//DibaCMS//EN
BEGIN:VEVENT
UID:8663
DTSTAMP:20260422T034853
DTSTART:20190921T100000
DTEND:20190921T110000
SUMMARY:FUTBOL - prebenjamí - Sant Esteve vs Castellbisbal
LOCATION:Carrer dels Esports, s/n 08635 Sant Esteve Sesrovires
METHOD:PUBLISH
X-WR-CALNAME:sesrovires@diba.cat
X-WR-TIMEZONE:Europe/Madrid
DESCRIPTION:
URI:https://www.sesrovires.cat/actualitat/agenda-cultural/futbol-prebenjami-sant-esteve-vs-castellbisbal.html
CLASS:PUBLIC
END:VEVENT
END:VCALENDAR
