BEGIN:VCALENDAR
VERSION:2.0
CALSCALE:GREGORIAN
PRODID:-//Diputació de Barcelona//DibaCMS//EN
BEGIN:VEVENT
UID:8666
DTSTAMP:20260421T105316
DTSTART:20190921T120000
DTEND:20190921T130000
SUMMARY:HANDBOL - cadet femení - Sant Esteve vs Sant LLorenç
LOCATION:Carrer Marta Mata s/n 08635 Sant Esteve Sesrovires
METHOD:PUBLISH
X-WR-CALNAME:sesrovires@diba.cat
X-WR-TIMEZONE:Europe/Madrid
DESCRIPTION:
URI:https://www.sesrovires.cat/actualitat/agenda-cultural/handbol-cadet-femeni-sant-esteve-vs-sant-llorenc.html
CLASS:PUBLIC
END:VEVENT
END:VCALENDAR
