BEGIN:VCALENDAR
VERSION:2.0
CALSCALE:GREGORIAN
PRODID:-//Diputació de Barcelona//DibaCMS//EN
BEGIN:VEVENT
UID:8667
DTSTAMP:20260421T164058
DTSTART:20190921T123000
DTEND:20190921T133000
SUMMARY:FUTBOL - juvenil masculí - Sant Esteve vs Abrera
LOCATION:Carrer dels Esports, s/n 08635 Sant Esteve Sesrovires
METHOD:PUBLISH
X-WR-CALNAME:sesrovires@diba.cat
X-WR-TIMEZONE:Europe/Madrid
DESCRIPTION:
URI:https://www.sesrovires.cat/actualitat/agenda-completa/futbol-juvenil-masculi-sant-esteve-vs-abrera.html
CLASS:PUBLIC
END:VEVENT
END:VCALENDAR
