BEGIN:VCALENDAR
VERSION:2.0
CALSCALE:GREGORIAN
PRODID:-//Diputació de Barcelona//DibaCMS//EN
BEGIN:VEVENT
UID:8668
DTSTAMP:20260421T133354
DTSTART:20190924T000000
DTEND:20200922T000000
SUMMARY:El 4 d'octubre finalitza el termini per participar en el Premi d'Iniciatives Empresarials
LOCATION:
METHOD:PUBLISH
X-WR-CALNAME:sesrovires@diba.cat
X-WR-TIMEZONE:Europe/Madrid
DESCRIPTION:Fins al 4 d’octubre es poden presentar a l’Àrea de Promoció Econòmica les candidatures per participar al 10è Concurs d’Iniciatives Empresarials del Baix Llobregat Nord. En aquesta edició es premien amb 2.000 euros les millors empreses en creació de llocs de treball i en els sectors del comerç i dels serveis, amb 3.000 euros la millor idea jove de negoci i, com a novetat, la millor parada de mercat, també amb 2.000 euros. 

URI:https://www.sesrovires.cat/actualitat/noticies/el-4-doctubre-finalitza-el-termini-per-participar-en-el-premi-diniciatives-empresarials.html
CLASS:PUBLIC
END:VEVENT
END:VCALENDAR
