BEGIN:VCALENDAR
VERSION:2.0
CALSCALE:GREGORIAN
PRODID:-//Diputació de Barcelona//DibaCMS//EN
BEGIN:VEVENT
UID:8669
DTSTAMP:20260422T035347
DTSTART:20190923T000000
DTEND:20200922T000000
SUMMARY:Últims dies per respondre l'enquesta sobre el SIAC
LOCATION:
METHOD:PUBLISH
X-WR-CALNAME:sesrovires@diba.cat
X-WR-TIMEZONE:Europe/Madrid
DESCRIPTION:L’Ajuntament està treballant per elaborar la carta del Servei d’Informació i Atenció Ciutadana (SIAC).  La carta és un  document on  es descriuen les funcions d’un servei i els compromisos que l’administració adquireix amb la ciutadania. Per saber quin és el grau de satisfacció actual amb el SIAC i quins aspectes s’haurien de millorar, l’Ajuntament està realitzant una enquesta, que es pot contestar en paper i a través de la web fins al 30 de setembre.

URI:https://www.sesrovires.cat/actualitat/noticies/ultims-dies-per-respondre-lenquesta-sobre-el-siac.html
CLASS:PUBLIC
END:VEVENT
END:VCALENDAR
