BEGIN:VCALENDAR
VERSION:2.0
CALSCALE:GREGORIAN
PRODID:-//Diputació de Barcelona//DibaCMS//EN
BEGIN:VEVENT
UID:8672
DTSTAMP:20260421T120534
DTSTART:20190928T120000
DTEND:20190928T133000
SUMMARY:Futbol Cadet Masculí - A
LOCATION:Carrer dels Esports, s/n 08635 Sant Esteve Sesrovires
METHOD:PUBLISH
X-WR-CALNAME:sesrovires@diba.cat
X-WR-TIMEZONE:Europe/Madrid
DESCRIPTION: Sant Esteve / Sant Andreu

Camp de Futbol

URI:https://www.sesrovires.cat/actualitat/agenda-esportiva/futbol-cadet-masculi-a.html
CLASS:PUBLIC
END:VEVENT
END:VCALENDAR
