BEGIN:VCALENDAR
VERSION:2.0
CALSCALE:GREGORIAN
PRODID:-//Diputació de Barcelona//DibaCMS//EN
BEGIN:VEVENT
UID:8673
DTSTAMP:20260421T222912
DTSTART:20190928T173000
DTEND:20190928T190000
SUMMARY:CAMP DE FUTBOL - Futbol Sènior Masculí / Equip Visitant: Pallejà
LOCATION:
METHOD:PUBLISH
X-WR-CALNAME:sesrovires@diba.cat
X-WR-TIMEZONE:Europe/Madrid
DESCRIPTION:
URI:https://www.sesrovires.cat/actualitat/agenda-esportiva/camp-de-futbol-futbol-senior-masculi--equip-visitant-palleja.html
CLASS:PUBLIC
END:VEVENT
END:VCALENDAR
