BEGIN:VCALENDAR
VERSION:2.0
CALSCALE:GREGORIAN
PRODID:-//Diputació de Barcelona//DibaCMS//EN
BEGIN:VEVENT
UID:8676
DTSTAMP:20260421T131226
DTSTART:20190928T203000
DTEND:20190928T220000
SUMMARY:PAVELLÓ POLIESPORTIU - Handbol Màster Masculí / Equip Visitant: Sant Andreu (suspès)
LOCATION:Carrer Marta Mata s/n 08635 Sant Esteve Sesrovires
METHOD:PUBLISH
X-WR-CALNAME:sesrovires@diba.cat
X-WR-TIMEZONE:Europe/Madrid
DESCRIPTION:
URI:https://www.sesrovires.cat/actualitat/agenda-esportiva/pavello-poliesportiu-handbol-master-masculi--equip-visitant-sant-andreu-suspes.html
CLASS:PUBLIC
END:VEVENT
END:VCALENDAR
